BEGIN:VCALENDAR
VERSION:2.0
PRODID:-//Sabre//Sabre VObject 4.5.8//EN
CALSCALE:GREGORIAN
BEGIN:VEVENT
UID:criticalmass-one-bonn-1725715800
DTSTAMP:20260422T005033Z
SUMMARY:Kidical Mass Bonn 07.09.2024
DESCRIPTION:Vorab 4 Stunden Fahrrad-Parcours im Rahmen eines Spielplatz-Fes
 tes 
DTSTART;TZID=Europe/Berlin:20240907T153000
DTEND;TZID=Europe/Berlin:20240907T173000
LOCATION:Bonn Auerberger Mitte
GEO:50.756143;7.077788
URL;VALUE=URI:https://criticalmass.in/bonn/kidical-mass-bonn-september-2024
END:VEVENT
END:VCALENDAR
