BEGIN:VCALENDAR
VERSION:2.0
PRODID:-//Sabre//Sabre VObject 4.5.8//EN
CALSCALE:GREGORIAN
BEGIN:VEVENT
UID:criticalmass-one-bonn-1695472200
DTSTAMP:20260424T131143Z
SUMMARY:Kidical Mass Bonn 23.09.2023
DTSTART;TZID=Europe/Berlin:20230923T143000
DTEND;TZID=Europe/Berlin:20230923T163000
LOCATION:Bonn\, Hofgarten
GEO:50.732558;7.104544
URL;VALUE=URI:https://criticalmass.in/bonn/kidical-mass-bonn-september-2023
END:VEVENT
END:VCALENDAR
