BEGIN:VCALENDAR
VERSION:2.0
PRODID:-//Sabre//Sabre VObject 4.5.8//EN
CALSCALE:GREGORIAN
BEGIN:VEVENT
UID:criticalmass-one-bonn-1631970000
DTSTAMP:20260424T101237Z
SUMMARY:Kidical Mass Bonn 18.09.2021
DTSTART;TZID=Europe/Berlin:20210918T150000
DTEND;TZID=Europe/Berlin:20210918T170000
LOCATION:Hofgartenwiese
GEO:50.732788;7.104163
URL;VALUE=URI:https://criticalmass.in/bonn/kidical-mass-bonn-september-2021
END:VEVENT
END:VCALENDAR
