BEGIN:VCALENDAR
VERSION:2.0
PRODID:-//Sabre//Sabre VObject 4.5.8//EN
CALSCALE:GREGORIAN
BEGIN:VEVENT
UID:criticalmass-one-bonn-1714826700
DTSTAMP:20260422T041058Z
SUMMARY:Kidical Mass Bonn 04.05.2024
DESCRIPTION:Es wird wieder Luftballons\, Seifenblasen und Musik geben. Euch
  erwartet eine ca. 7km lange Route quer durch die Südstadt\, Altstadt und
  Innstadt Bonns.
DTSTART;TZID=Europe/Berlin:20240504T144500
DTEND;TZID=Europe/Berlin:20240504T164500
LOCATION:Bonn Hofgarten
GEO:50.732558;7.104544
URL;VALUE=URI:https://criticalmass.in/bonn/kidical-mass-bonn-mai-2024
END:VEVENT
END:VCALENDAR
