BEGIN:VCALENDAR
VERSION:2.0
PRODID:-//Sabre//Sabre VObject 4.5.8//EN
CALSCALE:GREGORIAN
BEGIN:VEVENT
UID:criticalmass-one-bonn-1683378000
DTSTAMP:20260422T175957Z
SUMMARY:Kidical Mass Bonn 06.05.2023
DTSTART;TZID=Europe/Berlin:20230506T150000
DTEND;TZID=Europe/Berlin:20230506T170000
LOCATION:Hofgarten
GEO:50.732558;7.104544
URL;VALUE=URI:https://criticalmass.in/bonn/kidical-mass-bonn-mai-2023
END:VEVENT
END:VCALENDAR
