BEGIN:VCALENDAR
VERSION:2.0
PRODID:-//Sabre//Sabre VObject 4.5.8//EN
CALSCALE:GREGORIAN
BEGIN:VEVENT
UID:criticalmass-one-bonn-1652533200
DTSTAMP:20260422T133824Z
SUMMARY:Kidical Mass Bonn 14.05.2022
DTSTART;TZID=Europe/Berlin:20220514T150000
DTEND;TZID=Europe/Berlin:20220514T170000
LOCATION:Bonn\, Hofgarten
GEO:50.732319;7.106716
URL;VALUE=URI:https://criticalmass.in/bonn/kidical-mass-bonn-mai-2022
END:VEVENT
END:VCALENDAR
