BEGIN:VCALENDAR
VERSION:2.0
PRODID:-//Sabre//Sabre VObject 4.5.8//EN
CALSCALE:GREGORIAN
BEGIN:VEVENT
UID:criticalmass-one-bonn-1772211600
DTSTAMP:20260421T100449Z
SUMMARY:Critical Mass Bonn 27.02.2026
DTSTART;TZID=Europe/Berlin:20260227T180000
DTEND;TZID=Europe/Berlin:20260227T200000
LOCATION:Hofgarten
GEO:50.732107;7.103948
URL;VALUE=URI:https://criticalmass.in/bonn/2026-02-27
END:VEVENT
END:VCALENDAR
