BEGIN:VCALENDAR
VERSION:2.0
PRODID:-//Sabre//Sabre VObject 4.5.8//EN
CALSCALE:GREGORIAN
BEGIN:VEVENT
UID:criticalmass-one-bonn-1743181200
DTSTAMP:20260422T100339Z
SUMMARY:Critical Mass Bonn 28.03.2025
DTSTART;TZID=Europe/Berlin:20250328T180000
DTEND;TZID=Europe/Berlin:20250328T200000
LOCATION:Hofgarten
GEO:50.732107;7.103948
URL;VALUE=URI:https://criticalmass.in/bonn/2025-03-28
END:VEVENT
END:VCALENDAR
