BEGIN:VCALENDAR
VERSION:2.0
PRODID:-//Sabre//Sabre VObject 4.5.8//EN
CALSCALE:GREGORIAN
BEGIN:VEVENT
UID:criticalmass-one-bonn-1729872000
DTSTAMP:20260422T081305Z
SUMMARY:Critical Mass Bonn 25.10.2024
DTSTART;TZID=Europe/Berlin:20241025T180000
DTEND;TZID=Europe/Berlin:20241025T200000
LOCATION:Hofgarten
GEO:50.732107;7.103948
URL;VALUE=URI:https://criticalmass.in/bonn/2024-10-25
END:VEVENT
END:VCALENDAR
