BEGIN:VCALENDAR
VERSION:2.0
PRODID:-//Sabre//Sabre VObject 4.5.8//EN
CALSCALE:GREGORIAN
BEGIN:VEVENT
UID:criticalmass-one-bonn-1627660800
DTSTAMP:20260422T231111Z
SUMMARY:Critical Mass Bonn 30.07.2021
DTSTART;TZID=Europe/Berlin:20210730T180000
DTEND;TZID=Europe/Berlin:20210730T200000
LOCATION:Hofgarten
GEO:50.732107;7.103948
URL;VALUE=URI:https://criticalmass.in/bonn/2021-07-30
END:VEVENT
END:VCALENDAR
