BEGIN:VCALENDAR
VERSION:2.0
PRODID:-//Sabre//Sabre VObject 4.5.8//EN
CALSCALE:GREGORIAN
BEGIN:VEVENT
UID:criticalmass-one-bonn-1606496400
DTSTAMP:20260419T135156Z
SUMMARY:Critical Mass Bonn 27.11.2020
DTSTART;TZID=Europe/Berlin:20201127T180000
DTEND;TZID=Europe/Berlin:20201127T200000
LOCATION:Hofgarten
GEO:50.732107;7.103948
URL;VALUE=URI:https://criticalmass.in/bonn/2020-11-27
END:VEVENT
END:VCALENDAR
