BEGIN:VCALENDAR
VERSION:2.0
PRODID:-//Sabre//Sabre VObject 4.5.8//EN
CALSCALE:GREGORIAN
BEGIN:VEVENT
UID:criticalmass-one-bonn-1604077200
DTSTAMP:20260423T143633Z
SUMMARY:Critical Mass Bonn 30.10.2020
DTSTART;TZID=Europe/Berlin:20201030T180000
DTEND;TZID=Europe/Berlin:20201030T200000
LOCATION:Hofgarten
GEO:50.732107;7.103948
URL;VALUE=URI:https://criticalmass.in/bonn/2020-10-30
END:VEVENT
END:VCALENDAR
