BEGIN:VCALENDAR
VERSION:2.0
PRODID:-//Sabre//Sabre VObject 4.5.8//EN
CALSCALE:GREGORIAN
BEGIN:VEVENT
UID:criticalmass-one-bonn-1590768000
DTSTAMP:20260424T140312Z
SUMMARY:Critical Mass Bonn 29.05.2020
DESCRIPTION:Aktionstag "Sand im Getriebe" am 29. Mai\nVerkehrswende statt #
 Abfckprämie: Keine Abwrackprämie 2.0 – keine Staatshilfen für fossile
  Industrien!
DTSTART;TZID=Europe/Berlin:20200529T180000
DTEND;TZID=Europe/Berlin:20200529T200000
LOCATION:Hofgarten
GEO:50.732107;7.103948
URL;VALUE=URI:https://criticalmass.in/bonn/2020-05-29
END:VEVENT
END:VCALENDAR
