BEGIN:VCALENDAR
VERSION:2.0
PRODID:-//Sabre//Sabre VObject 4.5.8//EN
CALSCALE:GREGORIAN
BEGIN:VEVENT
UID:criticalmass-one-bonn-1553878800
DTSTAMP:20260422T012254Z
SUMMARY:Critical Mass Bonn 29.03.2019
DESCRIPTION:Wettervorhersage:\n17° C mit 10% Niederschlagswahrscheinlichke
 it\, Luftfeuchtigkeit 60% und Windvorhersage 11 km/h = ideale Bedingungen 
 für eine Fahrradtourteilnahme.
DTSTART;TZID=Europe/Berlin:20190329T180000
DTEND;TZID=Europe/Berlin:20190329T200000
LOCATION:Hofgarten
GEO:50.731933;7.105558
URL;VALUE=URI:https://criticalmass.in/bonn/2019-03-29
END:VEVENT
END:VCALENDAR
