BEGIN:VCALENDAR
VERSION:2.0
PRODID:-//Sabre//Sabre VObject 4.5.8//EN
CALSCALE:GREGORIAN
BEGIN:VEVENT
UID:criticalmass-one-bonn-1511542800
DTSTAMP:20260421T112659Z
SUMMARY:Critical Mass Bonn 24.11.2017
DTSTART;TZID=Europe/Berlin:20171124T180000
DTEND;TZID=Europe/Berlin:20171124T200000
LOCATION:Hofgarten
GEO:50.732107;7.103948
URL;VALUE=URI:https://criticalmass.in/bonn/2017-11-24
END:VEVENT
END:VCALENDAR
