BEGIN:VCALENDAR
VERSION:2.0
PRODID:-//Sabre//Sabre VObject 4.5.8//EN
CALSCALE:GREGORIAN
BEGIN:VEVENT
UID:criticalmass-one-bonn-1461945600
DTSTAMP:20260422T032648Z
SUMMARY:Critical Mass Bonn - 29.04.2016
DTSTART;TZID=Europe/Berlin:20160429T180000
DTEND;TZID=Europe/Berlin:20160429T200000
LOCATION:Hofgarten
GEO:50.733359;7.102919
URL;VALUE=URI:https://criticalmass.in/bonn/2016-04-29
END:VEVENT
END:VCALENDAR
