BEGIN:VCALENDAR
VERSION:2.0
PRODID:-//Sabre//Sabre VObject 4.5.8//EN
CALSCALE:GREGORIAN
BEGIN:VEVENT
UID:criticalmass-one-bonn-1406304000
DTSTAMP:20260423T100306Z
SUMMARY:Critical Mass Bonn 25.07.2014
DTSTART;TZID=Europe/Berlin:20140725T180000
DTEND;TZID=Europe/Berlin:20140725T200000
LOCATION:Hofgarten
GEO:50.732107;7.103948
URL;VALUE=URI:https://criticalmass.in/bonn/2014-07-25
END:VEVENT
END:VCALENDAR
