BEGIN:VCALENDAR
VERSION:2.0
PRODID:-//Sabre//Sabre VObject 4.5.8//EN
CALSCALE:GREGORIAN
BEGIN:VEVENT
UID:criticalmass-one-bonn-1398441600
DTSTAMP:20260421T100147Z
SUMMARY:Critical Mass Bonn 25.04.2014
DTSTART;TZID=Europe/Berlin:20140425T180000
DTEND;TZID=Europe/Berlin:20140425T200000
LOCATION:Hofgarten
GEO:50.732107;7.103948
URL;VALUE=URI:https://criticalmass.in/bonn/2014-04-25
END:VEVENT
END:VCALENDAR
