BEGIN:VCALENDAR
VERSION:2.0
PRODID:-//Sabre//Sabre VObject 4.5.8//EN
CALSCALE:GREGORIAN
BEGIN:VEVENT
UID:criticalmass-one-boise-1769871600
DTSTAMP:20260422T232124Z
SUMMARY:Alex Pretti Memorial Ride — Boise Bicycle Project
DESCRIPTION:Ride on Saturday 1/31/26. Starts and ends at the Boise Bicycle 
 Project\, Roll up 3 p.m.\, Ride 3:30 p.m.
DTSTART;TZID=America/Boise:20260131T080000
DTEND;TZID=America/Boise:20260131T100000
LOCATION:Boise Bicycle Project\, Boise
GEO:43.608021;-116.212257
URL;VALUE=URI:https://criticalmass.in/boise/alex-pretti-memorial-ride-boise
 -2026-01-31
END:VEVENT
END:VCALENDAR
