BEGIN:VCALENDAR
VERSION:2.0
PRODID:-//Sabre//Sabre VObject 4.5.8//EN
CALSCALE:GREGORIAN
BEGIN:VEVENT
UID:criticalmass-one-boise-1772071200
DTSTAMP:20260423T112833Z
SUMMARY:Critical Mass Boise 25.02.2026
DTSTART;TZID=America/Boise:20260225T190000
DTEND;TZID=America/Boise:20260225T210000
LOCATION:Ann Morrison Fountain
GEO:43.611549;-116.221018
URL;VALUE=URI:https://criticalmass.in/boise/2026-02-26
END:VEVENT
END:VCALENDAR
