BEGIN:VCALENDAR
VERSION:2.0
PRODID:-//Sabre//Sabre VObject 4.5.8//EN
CALSCALE:GREGORIAN
BEGIN:VEVENT
UID:criticalmass-one-boeblingen-1772211600
DTSTAMP:20260422T133651Z
SUMMARY:Critical Mass Böblingen 27.02.2026
DTSTART;TZID=Europe/Berlin:20260227T180000
DTEND;TZID=Europe/Berlin:20260227T200000
LOCATION:Elbenplatz
GEO:48.685602;9.009415
URL;VALUE=URI:https://criticalmass.in/boeblingen/2026-02-27
END:VEVENT
END:VCALENDAR
