BEGIN:VCALENDAR
VERSION:2.0
PRODID:-//Sabre//Sabre VObject 4.5.8//EN
CALSCALE:GREGORIAN
BEGIN:VEVENT
UID:criticalmass-one-boeblingen-1766768400
DTSTAMP:20260424T150543Z
SUMMARY:Critical Mass Böblingen 26.12.2025
DTSTART;TZID=Europe/Berlin:20251226T180000
DTEND;TZID=Europe/Berlin:20251226T200000
LOCATION:Elbenplatz
GEO:48.685602;9.009415
URL;VALUE=URI:https://criticalmass.in/boeblingen/2025-12-26
END:VEVENT
END:VCALENDAR
