BEGIN:VCALENDAR
VERSION:2.0
PRODID:-//Sabre//Sabre VObject 4.5.8//EN
CALSCALE:GREGORIAN
BEGIN:VEVENT
UID:criticalmass-one-boeblingen-1725030000
DTSTAMP:20260422T150631Z
SUMMARY:Critical Mass Böblingen 30.08.2024
DTSTART;TZID=Europe/Berlin:20240830T170000
DTEND;TZID=Europe/Berlin:20240830T190000
GEO:48.685602;9.009415
URL;VALUE=URI:https://criticalmass.in/boeblingen/2024-08-30
END:VEVENT
END:VCALENDAR
