BEGIN:VCALENDAR
VERSION:2.0
PRODID:-//Sabre//Sabre VObject 4.5.8//EN
CALSCALE:GREGORIAN
BEGIN:VEVENT
UID:criticalmass-one-boeblingen-1714143600
DTSTAMP:20260423T053433Z
SUMMARY:Critical Mass Böblingen 26.04.2024
DTSTART;TZID=Europe/Berlin:20240426T170000
DTEND;TZID=Europe/Berlin:20240426T190000
GEO:48.685602;9.009415
URL;VALUE=URI:https://criticalmass.in/boeblingen/2024-04-26
END:VEVENT
END:VCALENDAR
