BEGIN:VCALENDAR
VERSION:2.0
PRODID:-//Sabre//Sabre VObject 4.5.8//EN
CALSCALE:GREGORIAN
BEGIN:VEVENT
UID:criticalmass-one-boeblingen-1711728000
DTSTAMP:20260422T133654Z
SUMMARY:Critical Mass Böblingen 29.03.2024
DTSTART;TZID=Europe/Berlin:20240329T170000
DTEND;TZID=Europe/Berlin:20240329T190000
GEO:48.685602;9.009415
URL;VALUE=URI:https://criticalmass.in/boeblingen/2024-03-29
END:VEVENT
END:VCALENDAR
