BEGIN:VCALENDAR
VERSION:2.0
PRODID:-//Sabre//Sabre VObject 4.5.8//EN
CALSCALE:GREGORIAN
BEGIN:VEVENT
UID:criticalmass-one-boeblingen-1703865600
DTSTAMP:20260422T055909Z
SUMMARY:Critical Mass Böblingen 29.12.2023
DTSTART;TZID=Europe/Berlin:20231229T170000
DTEND;TZID=Europe/Berlin:20231229T190000
GEO:48.685602;9.009415
URL;VALUE=URI:https://criticalmass.in/boeblingen/2023-12-29
END:VEVENT
END:VCALENDAR
