BEGIN:VCALENDAR
VERSION:2.0
PRODID:-//Sabre//Sabre VObject 4.5.8//EN
CALSCALE:GREGORIAN
BEGIN:VEVENT
UID:criticalmass-one-boeblingen-1682694000
DTSTAMP:20260423T125349Z
SUMMARY:Critical Mass Böblingen 28.04.2023
DTSTART;TZID=Europe/Berlin:20230428T170000
DTEND;TZID=Europe/Berlin:20230428T190000
GEO:48.685602;9.009415
URL;VALUE=URI:https://criticalmass.in/boeblingen/2023-04-28
END:VEVENT
END:VCALENDAR
