BEGIN:VCALENDAR
VERSION:2.0
PRODID:-//Sabre//Sabre VObject 4.5.8//EN
CALSCALE:GREGORIAN
BEGIN:VEVENT
UID:criticalmass-one-boeblingen-1622214000
DTSTAMP:20260424T022256Z
SUMMARY:Critical Mass Böblingen 28.05.2021
DTSTART;TZID=Europe/Berlin:20210528T170000
DTEND;TZID=Europe/Berlin:20210528T190000
GEO:48.685602;9.009415
URL;VALUE=URI:https://criticalmass.in/boeblingen/2021-05-28
END:VEVENT
END:VCALENDAR
