BEGIN:VCALENDAR
VERSION:2.0
PRODID:-//Sabre//Sabre VObject 4.5.8//EN
CALSCALE:GREGORIAN
BEGIN:VEVENT
UID:criticalmass-one-boeblingen-1619787600
DTSTAMP:20260422T194659Z
SUMMARY:Critical Mass Böblingen 30.04.2021
DTSTART;TZID=Europe/Berlin:20210430T150000
DTEND;TZID=Europe/Berlin:20210430T170000
GEO:48.685602;9.009415
URL;VALUE=URI:https://criticalmass.in/boeblingen/2021-04-30
END:VEVENT
END:VCALENDAR
