BEGIN:VCALENDAR
VERSION:2.0
PRODID:-//Sabre//Sabre VObject 4.5.8//EN
CALSCALE:GREGORIAN
BEGIN:VEVENT
UID:criticalmass-one-boeblingen-1616774400
DTSTAMP:20260424T022242Z
SUMMARY:Critical Mass Böblingen 26.03.2021
DTSTART;TZID=Europe/Berlin:20210326T170000
DTEND;TZID=Europe/Berlin:20210326T190000
GEO:48.685602;9.009415
URL;VALUE=URI:https://criticalmass.in/boeblingen/2021-03-26
END:VEVENT
END:VCALENDAR
