BEGIN:VCALENDAR
VERSION:2.0
PRODID:-//Sabre//Sabre VObject 4.5.8//EN
CALSCALE:GREGORIAN
BEGIN:VEVENT
UID:criticalmass-one-boeblingen-1611936000
DTSTAMP:20260422T055142Z
SUMMARY:Critical Mass Böblingen 29.01.2021
DTSTART;TZID=Europe/Berlin:20210129T170000
DTEND;TZID=Europe/Berlin:20210129T190000
GEO:48.685602;9.009415
URL;VALUE=URI:https://criticalmass.in/boeblingen/2021-01-29
END:VEVENT
END:VCALENDAR
