BEGIN:VCALENDAR
VERSION:2.0
PRODID:-//Sabre//Sabre VObject 4.5.8//EN
CALSCALE:GREGORIAN
BEGIN:VEVENT
UID:criticalmass-one-boeblingen-1590764400
DTSTAMP:20260423T050714Z
SUMMARY:Critical Mass Böblingen 29.05.2020
DTSTART;TZID=Europe/Berlin:20200529T170000
DTEND;TZID=Europe/Berlin:20200529T190000
GEO:48.685602;9.009415
URL;VALUE=URI:https://criticalmass.in/boeblingen/2020-05-29
END:VEVENT
END:VCALENDAR
