BEGIN:VCALENDAR
VERSION:2.0
PRODID:-//Sabre//Sabre VObject 4.5.8//EN
CALSCALE:GREGORIAN
BEGIN:VEVENT
UID:criticalmass-one-boeblingen-1587740400
DTSTAMP:20260424T151653Z
SUMMARY:Critical Mass Böblingen 24.04.2020
DTSTART;TZID=Europe/Berlin:20200424T170000
DTEND;TZID=Europe/Berlin:20200424T190000
GEO:48.685602;9.009415
URL;VALUE=URI:https://criticalmass.in/boeblingen/2020-04-24
END:VEVENT
END:VCALENDAR
