BEGIN:VCALENDAR
VERSION:2.0
PRODID:-//Sabre//Sabre VObject 4.5.8//EN
CALSCALE:GREGORIAN
BEGIN:VEVENT
UID:criticalmass-one-boeblingen-1577462400
DTSTAMP:20260422T104022Z
SUMMARY:Critical Mass Böblingen 27.12.2019
DTSTART;TZID=Europe/Berlin:20191227T170000
DTEND;TZID=Europe/Berlin:20191227T190000
GEO:48.685602;9.009415
URL;VALUE=URI:https://criticalmass.in/boeblingen/2019-12-27
END:VEVENT
END:VCALENDAR
