BEGIN:VCALENDAR
VERSION:2.0
PRODID:-//Sabre//Sabre VObject 4.5.8//EN
CALSCALE:GREGORIAN
BEGIN:VEVENT
UID:criticalmass-one-boeblingen-1546012800
DTSTAMP:20260423T084559Z
SUMMARY:Critical Mass Böblingen 28.12.2018
DTSTART;TZID=Europe/Berlin:20181228T170000
DTEND;TZID=Europe/Berlin:20181228T190000
GEO:48.685602;9.009415
URL;VALUE=URI:https://criticalmass.in/boeblingen/2018-12-28
END:VEVENT
END:VCALENDAR
