BEGIN:VCALENDAR
VERSION:2.0
PRODID:-//Sabre//Sabre VObject 4.5.8//EN
CALSCALE:GREGORIAN
BEGIN:VEVENT
UID:criticalmass-one-boeblingen-1532703600
DTSTAMP:20260423T084600Z
SUMMARY:Critical Mass Böblingen 27.07.2018
DTSTART;TZID=Europe/Berlin:20180727T170000
DTEND;TZID=Europe/Berlin:20180727T190000
GEO:48.685602;9.009415
URL;VALUE=URI:https://criticalmass.in/boeblingen/2018-07-27
END:VEVENT
END:VCALENDAR
