BEGIN:VCALENDAR
VERSION:2.0
PRODID:-//Sabre//Sabre VObject 4.5.8//EN
CALSCALE:GREGORIAN
BEGIN:VEVENT
UID:criticalmass-one-boeblingen-1506697200
DTSTAMP:20260421T201114Z
SUMMARY:Critical Mass Böblingen 29.09.2017
DTSTART;TZID=Europe/Berlin:20170929T170000
DTEND;TZID=Europe/Berlin:20170929T190000
URL;VALUE=URI:https://criticalmass.in/boeblingen/2017-09-29
END:VEVENT
END:VCALENDAR
