BEGIN:VCALENDAR
VERSION:2.0
PRODID:-//Sabre//Sabre VObject 4.5.8//EN
CALSCALE:GREGORIAN
BEGIN:VEVENT
UID:criticalmass-one-boeblingen-1501254000
DTSTAMP:20260423T113411Z
SUMMARY:Critical Mass Böblingen 28.07.2017
DTSTART;TZID=Europe/Berlin:20170728T170000
DTEND;TZID=Europe/Berlin:20170728T190000
URL;VALUE=URI:https://criticalmass.in/boeblingen/2017-07-28
END:VEVENT
END:VCALENDAR
