BEGIN:VCALENDAR
VERSION:2.0
PRODID:-//Sabre//Sabre VObject 4.5.8//EN
CALSCALE:GREGORIAN
BEGIN:VEVENT
UID:criticalmass-one-boeblingen-1493391600
DTSTAMP:20260422T040039Z
SUMMARY:Critical Mass Böblingen 28.04.2017
DTSTART;TZID=Europe/Berlin:20170428T170000
DTEND;TZID=Europe/Berlin:20170428T190000
URL;VALUE=URI:https://criticalmass.in/boeblingen/2017-04-28
END:VEVENT
END:VCALENDAR
