BEGIN:VCALENDAR
VERSION:2.0
PRODID:-//Sabre//Sabre VObject 4.5.8//EN
CALSCALE:GREGORIAN
BEGIN:VEVENT
UID:criticalmass-one-boeblingen-1490972400
DTSTAMP:20260424T030405Z
SUMMARY:Critical Mass Böblingen 31.03.2017
DTSTART;TZID=Europe/Berlin:20170331T170000
DTEND;TZID=Europe/Berlin:20170331T190000
URL;VALUE=URI:https://criticalmass.in/boeblingen/2017-03-31
END:VEVENT
END:VCALENDAR
