BEGIN:VCALENDAR
VERSION:2.0
PRODID:-//Sabre//Sabre VObject 4.5.8//EN
CALSCALE:GREGORIAN
BEGIN:VEVENT
UID:criticalmass-one-boeblingen-1466780400
DTSTAMP:20260422T101908Z
SUMMARY:Critical Mass Böblingen 24.06.2016
DTSTART;TZID=Europe/Berlin:20160624T170000
DTEND;TZID=Europe/Berlin:20160624T190000
URL;VALUE=URI:https://criticalmass.in/boeblingen/2016-06-24
END:VEVENT
END:VCALENDAR
