BEGIN:VCALENDAR
VERSION:2.0
PRODID:-//Sabre//Sabre VObject 4.5.8//EN
CALSCALE:GREGORIAN
BEGIN:VEVENT
UID:criticalmass-one-boeblingen-1456502400
DTSTAMP:20260422T114957Z
SUMMARY:Critical Mass Böblingen 26.02.2016
DTSTART;TZID=Europe/Berlin:20160226T170000
DTEND;TZID=Europe/Berlin:20160226T190000
LOCATION:Elbenplatz
GEO:48.685602;9.009415
URL;VALUE=URI:https://criticalmass.in/boeblingen/2016-02-26
END:VEVENT
END:VCALENDAR
