BEGIN:VCALENDAR
VERSION:2.0
PRODID:-//Sabre//Sabre VObject 4.5.8//EN
CALSCALE:GREGORIAN
BEGIN:VEVENT
UID:criticalmass-one-boeblingen-1443193200
DTSTAMP:20260423T084640Z
SUMMARY:Critical Mass Böblingen 25.09.2015
DTSTART;TZID=Europe/Berlin:20150925T170000
DTEND;TZID=Europe/Berlin:20150925T190000
LOCATION:Elbenplatz
GEO:48.685602;9.009415
URL;VALUE=URI:https://criticalmass.in/boeblingen/2015-09-25
END:VEVENT
END:VCALENDAR
