BEGIN:VCALENDAR
VERSION:2.0
PRODID:-//Sabre//Sabre VObject 4.5.8//EN
CALSCALE:GREGORIAN
BEGIN:VEVENT
UID:criticalmass-one-boeblingen-1438354800
DTSTAMP:20260422T164623Z
SUMMARY:Critical Mass Böblingen 31.07.2015
DTSTART;TZID=Europe/Berlin:20150731T170000
DTEND;TZID=Europe/Berlin:20150731T190000
LOCATION:Elbenplatz
GEO:48.685602;9.009415
URL;VALUE=URI:https://criticalmass.in/boeblingen/2015-07-31
END:VEVENT
END:VCALENDAR
