BEGIN:VCALENDAR
VERSION:2.0
PRODID:-//Sabre//Sabre VObject 4.5.8//EN
CALSCALE:GREGORIAN
BEGIN:VEVENT
UID:criticalmass-one-boeblingen-1435330800
DTSTAMP:20260422T164618Z
SUMMARY:Critical Mass Böblingen 26.06.2015
DTSTART;TZID=Europe/Berlin:20150626T170000
DTEND;TZID=Europe/Berlin:20150626T190000
LOCATION:Elbenplatz
GEO:48.685602;9.009415
URL;VALUE=URI:https://criticalmass.in/boeblingen/2015-06-26
END:VEVENT
END:VCALENDAR
