BEGIN:VCALENDAR
VERSION:2.0
PRODID:-//Sabre//Sabre VObject 4.5.8//EN
CALSCALE:GREGORIAN
BEGIN:VEVENT
UID:criticalmass-one-boeblingen-1403881200
DTSTAMP:20260421T214837Z
SUMMARY:Critical Mass Böblingen 27.06.2014
DTSTART;TZID=Europe/Berlin:20140627T170000
DTEND;TZID=Europe/Berlin:20140627T190000
LOCATION:Elbenplatz
GEO:48.685602;9.009415
URL;VALUE=URI:https://criticalmass.in/boeblingen/2014-06-27
END:VEVENT
END:VCALENDAR
