BEGIN:VCALENDAR
VERSION:2.0
PRODID:-//Sabre//Sabre VObject 4.5.8//EN
CALSCALE:GREGORIAN
BEGIN:VEVENT
UID:criticalmass-one-bochum-1664022600
DTSTAMP:20260423T194632Z
SUMMARY:Kidical Mass Bochum 24.09.2022
DTSTART;TZID=Europe/Berlin:20220924T143000
DTEND;TZID=Europe/Berlin:20220924T163000
LOCATION:Schmechtingwiesee
URL;VALUE=URI:https://criticalmass.in/bochum/kidical-mass-bochum-september-
 2022
END:VEVENT
END:VCALENDAR
