BEGIN:VCALENDAR
VERSION:2.0
PRODID:-//Sabre//Sabre VObject 4.5.8//EN
CALSCALE:GREGORIAN
BEGIN:VEVENT
UID:criticalmass-one-bochum-1631970000
DTSTAMP:20260424T143528Z
SUMMARY:Kidical Mass Bochum 18.09.2021
DTSTART;TZID=Europe/Berlin:20210918T150000
DTEND;TZID=Europe/Berlin:20210918T170000
LOCATION:Bergbaumuseum/Europaplatz
URL;VALUE=URI:https://criticalmass.in/bochum/kidical-mass-bochum-september-
 2021
END:VEVENT
END:VCALENDAR
