BEGIN:VCALENDAR
VERSION:2.0
PRODID:-//Sabre//Sabre VObject 4.5.8//EN
CALSCALE:GREGORIAN
BEGIN:VEVENT
UID:criticalmass-one-bochum-1747483200
DTSTAMP:20260426T013128Z
SUMMARY:Kidical Mass Bochum 17.05.2025
DTSTART;TZID=Europe/Berlin:20250517T140000
DTEND;TZID=Europe/Berlin:20250517T160000
LOCATION:Bochum Appolonia-Pfaus-Park
GEO:51.483694;7.213488
URL;VALUE=URI:https://criticalmass.in/bochum/kidical-mass-bochum-mai-2025
END:VEVENT
END:VCALENDAR
