BEGIN:VCALENDAR
VERSION:2.0
PRODID:-//Sabre//Sabre VObject 4.5.8//EN
CALSCALE:GREGORIAN
BEGIN:VEVENT
UID:criticalmass-one-bochum-1683376200
DTSTAMP:20260424T031235Z
SUMMARY:Kidical Mass Bochum 06.05.2023
DTSTART;TZID=Europe/Berlin:20230506T143000
DTEND;TZID=Europe/Berlin:20230506T163000
LOCATION:Spielplatz an den Schmechtingwiesen
GEO:51.493192;7.216913
URL;VALUE=URI:https://criticalmass.in/bochum/kidical-mass-bochum-mai-2023
END:VEVENT
END:VCALENDAR
